BEGIN:VCALENDAR
VERSION:2.0
PRODID:-//Inspiring Australia - ECPv4.8.1//NONSGML v1.0//EN
CALSCALE:GREGORIAN
METHOD:PUBLISH
X-WR-CALNAME:Inspiring Australia
X-ORIGINAL-URL:http://inspiringtheact.org.au
X-WR-CALDESC:Events for Inspiring Australia
BEGIN:VEVENT
DTSTART;TZID=UTC+11:20151108T093000
DTEND;TZID=UTC+11:20201231T170000
DTSTAMP:20190226T231330
CREATED:20181225T164924Z
LAST-MODIFIED:20190127T191438Z
UID:3866-1446975000-1609434000@inspiringtheact.org.au
SUMMARY:Free Galleries Ticket
DESCRIPTION:Your FREE Galleries Ticket will allow you unlimited access on the day of your visit to all the displays open in our Permanent Galleries and the Wharf 7 Heritage Centre. You can also access our popular Cabinet of Curiosities  when programmed (suitable for all ages) and our Mini Mariners Play Space  – designed especially for children under age 5.\nTo access everything the mueum has to offer including special exhibitions and our fleet of vessels please purchase a Big Ticket.\nTicket is valid any day and for 12 months from date of purchase.  \n
URL:http://inspiringtheact.org.au/event/free-galleries-ticket/
LOCATION:Australian National Maritime Museum\, 2 Murray Street\, Sydney\, NSW\, 2000\, Australia
ATTACH;FMTTYPE=image/jpeg:http://inspiringtheact.org.au/wp-content/uploads/2018/12/65fa67924d000799aa4db78a1f67738c.jpg
END:VEVENT
BEGIN:VEVENT
DTSTART;TZID=UTC-5:20190223T220000
DTEND;TZID=UTC-5:20190224T040000
DTSTAMP:20190226T231330
CREATED:20190117T125936Z
LAST-MODIFIED:20190117T125936Z
UID:4055-1550959200-1550980800@inspiringtheact.org.au
SUMMARY:Reggae vs Soca at Milk River Lounge Feb 23rd | Young Maddy + Dj Big reef
DESCRIPTION:Saturday FEB 23RD\nThe Number one Saturday event \nPRESENTS \n  CARIBBEAN SATURDAYS\n   Eat..Drink..Dance..Party\n( CLICK TO RSVP )\nMILK RIVER LOUNGE\n ( 960 Atlantic Ave Brooklyn NY )\n2 BOTTLES For $300 BEFORE 12!\n \n Music by: \nDJ Young Maddy \nDj Big Reef\nOHDINERO \n\n\n\nBottle Specials\, Birthdays\, VIP Sections \nFor Vip section | Birthday Celebrations\nText #CBS 347-703-5752\n\nDress Code: Fresh | 21+ ID Required\nFull Kitchen Menu/ Drink Specials / Bottle deals\n Express Entry | VIP Section |DJ Shout-outs | And More…\n\nDress Code – Trendy\nGents: Work Boots\, sweat pants\, \nLadies: ( No Flats ) 21+ w/ Valid ID\n( RSVP NOW ) \n
URL:http://inspiringtheact.org.au/event/reggae-vs-soca-at-milk-river-lounge-feb-23rd-young-maddy-dj-big-reef/
LOCATION:Milk River Lounge\, 960 Atlantic Avenue\, #suite a\, Brooklyn\, NY\, 11238\, United States
END:VEVENT
BEGIN:VEVENT
DTSTART;TZID=UTC+11:20190224T130000
DTEND;TZID=UTC+11:20190224T170000
DTSTAMP:20190226T231330
CREATED:20190217T224553Z
LAST-MODIFIED:20190223T234804Z
UID:4277-1551013200-1551027600@inspiringtheact.org.au
SUMMARY:Develop a Successful Healthcare Tech Startup Entrepreneur Business Today! Canberra - Medtech - Entrepreneur - Workshop - Hackathon - Bootcamp - Virtual Class - Seminar - Training - Lecture - Webinar - Conference - Course
DESCRIPTION:\n\nDevelop a Successful Healthcare Tech Startup Business Today!\nAlways wanted to start an Healthcare Tech Startup? Now we have a complete blueprint for you start your own Medtech Startup. During our tech startup program you will learn and navigate through tools\, software\, hardware\, platforms\, resources\, projects\, processes\, methods and strategies to penetrate your own Medtech Startup into the market.\n\n\nAccomplish 10X Performance Results compared to other Startups\nReceive 10X Return Of Investment (ROI) than a college education\nOur Tech Startup Program contains jam-packed with practical market & industry insights\nOur team has done the market/industry research so you won’t need to\,\nSave 10X of Your Time\nLearn to Develop a Six-Figure Tech Startup from Scratch\nDiscover the Potential with Emerging Technologies\nGet a foot into a Billion Dollar Industry\nFull Tech Startup Mentorship\nTech Entrepreneurship Certification/Diploma\nGo From Beginner To Advanced Entrepreneur in No Time\nStep by Step Instructions\nComplete Tech Startup Business Setup: From Zero To Hero In No Time\nNo Previous programming or tech background needed except an open mindset\nGenerate sales in a B2B environment\nGet a holistic overview of different tech startup processes\nDiscover new strategies and perspectives on developing your startup\nIncrease Your Creativity & Innovation IQ\n\n\n\n\nDuring This Healthcare Tech Startup Workshop We Will Cover:\nSession 1: Medtech Basics\nDuring this session we will explore the very foundation and the basic systems and platforms for you to integrate into your own tech startup process. \n\nMedtech Hardware\nMedtech Software\nMedtech Platforms\nMedtech Projects\nMedtech Systems\nMedtech Blueprint\nMedtech Tools\nMedtech Resources\n\nSession 2: Tech Startup IdeasDuring this session we will explore tech startup ideas for you to implement and integrate into your own tech startup or use them as an inspirational source for developing your own products\, projects\, prototypes or services in your tech startup\n\nAI Bio Profiles\nBio Profiles Big Data\nBehaviour Analytics\nNiche Disease Wearable\nDisease BioLocking\nBioFirewalls\nHerb Biolocation Platform\nBiodesign Bioapp Marketplace\nHeart BioMonitoring\nAI Patient Care\nGenome BioAnalytics\nBioEnergey App\nAI Treatment Adviser\nBrain Performance BioMonitoring\nBiohancement Platform\nBioCloud Platform\nBioVR Sleep Lab\nSleep Lab Analytics\nBiosleep Sensors\nMicroscopic CV AI\nMicroscopic BD IP\npH BioMonitor MedDevice App\nBiomimicry Simulation VR/AR Lab\nBiorobotic AR Surgery\nBioCycle Feedback System\nBioalgoritm Data Warehouse\nHealthcare Enterprise Intelligence\nBioSound Therapy\nNeuroControlled VR\nAR BCI\nAI BioSurgery\nMedical AI Assistant\nHealthcare Emergency System\nHealthcare Notifications/Alerts\nVR Healthcare Lab\nand much more\n\n \nSession 3: R&DDuring this session we will explore the research process\, how you can research a specific niche industry\, the market and tech trends.\n\nR&D/Research\nR&D Tools\nStartup Tools\nMarket Research\nSurveys\nConsumer Analytics\nMarket Analytics\nIndustry Analytics\nTrends Researching\n\n \nSession 4: Creativity\nDuring this session we will explore the creativity process\, how to increase your own creativity intelligence and implement quality tech ideas into your own tech startup process.\n\nCreativity Tools\nCreativity Techniques\nCreativity Strategy\nMind mapping\nBrainstorming\nMeditation\nIdea Exploring\nIdea Blender\nKey-Point System\nProblem Solving Strategy\nIncubation\nCreative intelligence\nOutside the Box Thinking\nLateral Thinking\nProductivity Tools\nMind Relaxation\nMeditation\nHigher Consciousnesses\nInspiration Tools\nIdea Storage\n\n \nSession 5: Capital/FundingDuring this session we will explore the capital and funding process of your tech startup. How to raise capital and make systematic attempts to penetrate into the market.\n\nCapital/Funding\nCapital/Funding Tools\nCapital/Funding Strategy\nVenture Capitalists\nAngel Investors\nSeed Funding\nIncubators\nAccelerator Programs\nCo-Founder\nCapitalization Table\nCrowdfunding\nBusiness Trade Fairs\n\n \n\nSession 6: Clients/CustomersDuring this session we will explore the client acquisition process. Find your first clients and customers for your tech startup and implement the right tools\, methods and strategies for creating an successful sale system for your specific niche industry/technology.\n\nClients\nClient Acquisition Strategy\nClient Acquisition Process\nPR Strategies\nSocial Media Marketing\nCompetitive Analysis\nE-Mail Marketing\nNewsletters\nAnalytics\nSEO\nDigital Marketing\nAd Systems\nCompetitor Research\nSale System\nSale Strategy\nGrowth Hacking\nSales Funnel\nEmail Hunting\n\n \nSession 7: Business PlatformDuring this session we will explore the business organizing process. How to implement an organized and professional platform for your tech startup for creating efficient workflow.\n\nBusiness Automation\nBusiness Process\nBusiness Strategy\nBusiness Model\nBusiness Management\nERP\nCRM\nHuman Resources (HR)\nRecruitment\nIntranet\nCollaboration\nProject Management\nDocument Management\nCustomer Support\nBusiness Automation Tools\n\n \nSession 8: Business FormationDuring this session we will explore the business formation process. Which platforms\, models and tools to integrate into your tech startup formation for creating an successful launch process.Business Formation\n\nLegal\nContracts\nBusiness Model\nCorporate Structure\nPayment Platforms\nPayment Gateway\nInvoicing System\nCredit Cards/Payments\nPricing Strategies\nAccounting\nSubscriptions\nOffice Space\nVirtual Address\nVirtual Phone\nVirtual Office\nRemote Office\nVirtual Assistant\nVirtual Receptionist\nVirtual Support\nOutsourcing\nProduct Demo\nProduct Launch\n\n \nSession 9: Startup CodingDuring this session we will explore the coding process of your tech startup.Coding/Programming\n\nIDE\nAPI\nSDK\nGUI\nCode Analysis\nData Visualization\nPython\nC#\nForms\nWireframing\nFront-End\nBack-End\nLibrary\nFrameworks\nTesting\nProgramming Platforms\nProgramming Tools\nAgile Development\nSoftware Code Management\n\n \nSession 10: Startup Hardware/PrototypingDuring this session we will explore the hardware and prototyping process of your tech startup. Using different tools and platform to innovate and integrate your own tech startup projects.\n\nElectronics\nIoT\nRaspberry Pi\nArduino\nMicrocontrollers\nSensors\nProjects\nMicrochips\nHardware Boards\nHardware Tools\nHardware Platform\nPCB\n3D Design\n3D Models\n3D Printing\nDIY Tech\nTech Lab\nEmbedded Systems\n\n \nSession 11 : Startup IT OperationsDuring this session we will explore the IT infrastructure process of your tech startup. Which platforms to use for setup an organized database system\, cloud system and other technical solutions for your tech startup to work efficiently\n\nIT Infrastructure\nCloud\nServers\nDatabase\nDevOps\nMonitoring\nRemote Access\nBackup\nTechnical Documentation\nData Recovery\nEncryption\nSecurity\nFTP\nNAS\nDeployment\nVPN\nVPS\nAutomation\nLog Management\nNetworking\nVirtualization\n\n \nSession 12 : Startup ConsultingDuring this session we will explore the consulting process for your tech startup. An strategic approach\, where you can receive more experience before you launch your own specific products/projects.\n\nTech Startup Consulting\nTech Consulting Services\nTech Consulting Structure\nTech Consulting Approach\nTech Consulting Strategy\nTech Consulting Contracts\nTech Consulting Referrals\nTech Consulting Portfolio\nTech Consulting ISO\nTech Consulting Integration\nTech Consulting Projects\n\n \nSession 13 : Startup ManagementDuring this session we will explore management process of your tech startup. How to manage your internal and external environments for increasing the probability of your tech startup to succeed.\n\nTech Startup Management\nMotivational Skills\nTime Management\nTeam Management\nLeadership Skills\nLearning Skills\nGoal Setting Skills\nDecision Making Skills\nStress Management\nCommunication Skills\nProcrastination Hacks\nProductivity Hacks\nConfidence Hacks\nGrowth Mindset Skills\nProblem Solving Skills\nAnalytical Skills\nStrategic Thinking Skills\nLearning Management\n\nSession 14: Tech WorkshopsDuring this session we will explore tech trends\, emerging markets and disruptive technologies and future workshops\n\nFuture Workshops\nDisruptive Technologies\nEmerging Markets\nEmerging Industries\nTech Trends\n\n\n\n\n\n\n\n\n\n\n\nFor more detailed information go to our website Atechup.com\n[This is an Online Web Workshop]\n\n\n\n\n\nWorkshop Curriculum\n\n\nBasic Edition: Tech Tools/System\, Tech Startup Ideas\, R&D\, Startup Creativity\, Startup Formation\, Startup Automation. Session 1-5.4 Hour Tech Startup Workshop\nBusiness Edition: Tech Tools/System\, Tech Startup Ideas\, R&D\, Startup Creativity\, Startup Formation\, Startup Automation\, Startup Capital/Funding\, Startup Clients/Marketing\, Startup Programming\, Startup Prototyping/Hardware\, Startup IT OperationsSession 1-12.12+ Hours of Tech Startup Workshops\,On-Demand 30 Days Streaming Access\n\n\n\nPremium Edition: Tech Tools/System\, Tech Startup Ideas\, R&D\, Startup Creativity\, Startup Formation\, Startup Automation\, Startup Capital/Funding\, Startup Clients/Marketing\, Startup Coding/Programming\, Startup Prototyping/Hardware\, Startup IT Operations\, Startup Management\, Startup Consulting\, Startup Workshops.Session 1-14. ALL Sessions.16+ Hours of Tech Startup Workshops\,On-Demand 6 Months Streaming Access24/7 VIP SupportCertification/DiplomaTech Entrepreneurship Bonus Material\n\n\nGold Edition: Everything included in the Premium Edition +  Entrepreneur Starter Kit (1000+ PR Contact List PDF\, 1000+ Journalists/Tech Blogs Contact List PDF\, 1000+ Tech/Startup Slack Communities List PDF\, 2500+ Potential Customers/Clients Contact List PDF\, 2000+ Venture Capital/Startup Funding List PDF\, 1700+ Startup Accelerators List PDF)\nTestimonials:\n\n\n“Atechup Startup Workshops is the most valuable business workshop we have EVER purchased.” – Johnny M.\n\n\n“Not able to tell you how HAPPY I am with Atechup Startup Workshops.” – Elisabeth F. T.\n\n\n“Atechup Startup Workshops\, is a visionary product\, shaping FUTURE tomorrow” – Cohen. A\n\n\n“I am completely blown away by the QUALITY and generous material. Thank you very much” – Steven  D.\n\n\n“Your company is TRULY upstanding and UNIQUE. I have gotten at least 50 times the VALUE from your Workshops.” – Xinye T.\n\n\n“I have FUNDED my Startup with Series A for the first time and its all THANKS to Atechup workshops” – F. Martinez\n\n\n\n\nFor more detailed information go to our website Atechup.com\n[This is an Online Web Workshop] \n
URL:http://inspiringtheact.org.au/event/develop-a-successful-healthcare-tech-startup-entrepreneur-business-today-canberra-medtech-entrepreneur-workshop-hackathon-bootcamp-virtual-class-seminar-training-lecture-webinar-4/
LOCATION:NSW
ATTACH;FMTTYPE=image/jpeg:http://inspiringtheact.org.au/wp-content/uploads/2019/01/e81403c31d2ec942330dd5986b0f0307.jpg
END:VEVENT
BEGIN:VEVENT
DTSTART;TZID=UTC+2:20190224T160000
DTEND;TZID=UTC+2:20190224T210000
DTSTAMP:20190226T231330
CREATED:20190106T115114Z
LAST-MODIFIED:20190117T125939Z
UID:3989-1551024000-1551042000@inspiringtheact.org.au
SUMMARY:CHRIST LIFE CONFERENCE WITH PST. JOHN ANOSIKE
DESCRIPTION:Please note that this is your temporal ticket which you’ll use to collect the main ticket for entry at the Green Point/Cape Town Stadium. Further details in this regard will be communicated to you via the email and contact number you have given. Get ready for an Empowering non-denominational conference\, poised to raise incorruptible sons of God and impact the saints with the latter rain mandate. A life giving conference\, where Christ’s Life will be made manifest. It’s time to put on the Life of Christ and receive your inheritance in God. Christ died your death that you might live His God-Life\, Christ took your sickness that you might have His Divine Health\, Christ took your rejection that you might be accepted in the beloved!  \n
URL:http://inspiringtheact.org.au/event/christ-life-conference-with-pst-john-anosike/
LOCATION:Cape Town Stadium\, Fritz Sonnenberg Road\, Cape Town\, WC\, 8051\, South Africa
ATTACH;FMTTYPE=image/jpeg:http://inspiringtheact.org.au/wp-content/uploads/2019/01/5c6e2c63d924e2c0c8864e49ccd985dd.jpg
END:VEVENT
END:VCALENDAR