BEGIN:VCALENDAR
VERSION:2.0
PRODID:-//Inspiring Australia - ECPv4.8.1//NONSGML v1.0//EN
CALSCALE:GREGORIAN
METHOD:PUBLISH
X-WR-CALNAME:Inspiring Australia
X-ORIGINAL-URL:http://inspiringtheact.org.au
X-WR-CALDESC:Events for Inspiring Australia
BEGIN:VEVENT
DTSTART;TZID=UTC+11:20151108T093000
DTEND;TZID=UTC+11:20201231T170000
DTSTAMP:20190226T225709
CREATED:20181225T164924Z
LAST-MODIFIED:20190127T191438Z
UID:3866-1446975000-1609434000@inspiringtheact.org.au
SUMMARY:Free Galleries Ticket
DESCRIPTION:Your FREE Galleries Ticket will allow you unlimited access on the day of your visit to all the displays open in our Permanent Galleries and the Wharf 7 Heritage Centre. You can also access our popular Cabinet of Curiosities  when programmed (suitable for all ages) and our Mini Mariners Play Space  – designed especially for children under age 5.\nTo access everything the mueum has to offer including special exhibitions and our fleet of vessels please purchase a Big Ticket.\nTicket is valid any day and for 12 months from date of purchase.  \n
URL:http://inspiringtheact.org.au/event/free-galleries-ticket/
LOCATION:Australian National Maritime Museum\, 2 Murray Street\, Sydney\, NSW\, 2000\, Australia
ATTACH;FMTTYPE=image/jpeg:http://inspiringtheact.org.au/wp-content/uploads/2018/12/65fa67924d000799aa4db78a1f67738c.jpg
END:VEVENT
BEGIN:VEVENT
DTSTART;TZID=UTC-5:20190212T190000
DTEND;TZID=UTC-5:20190218T020000
DTSTAMP:20190226T225709
CREATED:20190117T125943Z
LAST-MODIFIED:20190117T125943Z
UID:4060-1549998000-1550455200@inspiringtheact.org.au
SUMMARY:ALL-STAR 2019 weekend Charlotte Party Pass
DESCRIPTION:One Pass One Venue All Weekend Party\nNBA All Star Weekend Events\nCelebrity Parties:\n1. 2/15 Fitzgerald’s Friday Night —DJ ENVY & Celebrity Friends\n2. 2/17 Fitzgerald’s Sunday Brunch- DJ Self & DJ SNS & Celebrity Friends \nSearch no more for information regarding Charlotte tournament week parties and events – we’re the one stop shop that will ensure you have an EPIC NBA ALL-STAR Weekend experience.\nplease only 1 Rsvp Per Person! NO NEED TO RSVP MULTIPLE TIMES!\nMore to be announced!\n(Click Flyer Below for more EVENT INFO)\n\n\n\n\n\n\n \n
URL:http://inspiringtheact.org.au/event/all-star-2019-weekend-charlotte-party-pass-2/
LOCATION:Fitzgerald’s Uptown Charlotte\, 201 E. 5th Street\, Charlotte\, NC\, 28202\, United States
END:VEVENT
BEGIN:VEVENT
DTSTART;TZID=UTC-5:20190214T210000
DTEND;TZID=UTC-5:20190218T030000
DTSTAMP:20190226T225709
CREATED:20181225T165352Z
LAST-MODIFIED:20190117T125543Z
UID:3884-1550178000-1550458800@inspiringtheact.org.au
SUMMARY:AllStar Weekend Party Pass
DESCRIPTION:\n\n\n3 Day All Access DayParty Pass\n\n\nTicket is for Friday -Sunday ( Day Parties ) at various locations . Only 1000 tickets will be sold at this price \n3 Day All Access DayParty Pass\nTicket is for Friday -Sunday ( Night Parties ) at various locations . Only 1000 tickets will be\n\n \n\nOne Pass Multpile Venues All Allstar Weekend\nOVER 10\,000 PEOPLE HAVE REGISTERED ALREADY !!!!!!!!!!!!\nThe 2019 ALL- STAR will be held February 14th – February 17th this year. ( Our events start posting in NOV. Stayed tuned for more info regarding Celebrity EVENTS / Day Parties / Night time events .\nWe will provide a complete list of our parties and events during the tournament weekend\, provide our users with ticket discounts and ticket giveaways  \nSearch no more for information regarding Charlotte tournament week parties and events – we’re the one stop shop that will ensure you have an EPIC ALL-STAR Weekend experience.\nplease only 1 Rsvp Per Person! NO NEED TO RSVP MULTIPLE TIMES!\nOnce tickets go on sale be mindful that all sales are final \nFor more info please email us @theexecutiveteamllc@gmail.com\n THERE will be 18+ Events  21+ Events and 25+ Events (The venues and promoters reserve the right to deny entry) \n
URL:http://inspiringtheact.org.au/event/allstar-weekend-party-pass/
LOCATION:UPTOWN CHARLOTTE\, 210 East Trade Street\, Charlotte\, NC\, 28202\, United States
ATTACH;FMTTYPE=image/jpeg:http://inspiringtheact.org.au/wp-content/uploads/2018/12/32053baa269760855b05c27608761179.jpg
END:VEVENT
BEGIN:VEVENT
DTSTART;TZID=UTC-5:20190215T120000
DTEND;TZID=UTC-5:20190217T210000
DTSTAMP:20190226T225710
CREATED:20190102T093031Z
LAST-MODIFIED:20190102T093031Z
UID:3959-1550232000-1550437200@inspiringtheact.org.au
SUMMARY:Jacksonville International Auto Show
DESCRIPTION:Buy your tickets for the Jacksonville Auto Show! It’s the perfect place to browse hundreds of the year’s new vehicles! Located at the Prime F. Osborn III Convention Center\, the Jacksonville International Auto Show is the premier showcase of the newest model year import and domestic vehicles — cars\, vans\, crossovers\, hybrids\, light trucks and sport utilities. Factory and dealer representatives from the car lines are on hand to answer your questions in a no pressure environment at the Auto Show. There are cars to suit every budget and life style at the Auto Show. With the car lines all under one roof\, it’s easy to compare prices and features\, saving both time and money. So come sit in the cars\, pop the hoods\, inspect the trunks\, kick the tires. The Jacksonville International Auto Show is great entertainment for serious shoppers\, auto buffs and the entire family!\nLOCATION:\nPrime Osborn Convention Center1000 Water StreetJacksonville\, FL 32204\nHOURS:\nFriday\, February 15\, 12:00 PM – 9:00 PMSaturday\, February 16\, 10:00 AM – 9:00 PMSunday\, February 17\, 10:00 AM – 6:00 PM\n*Box Office closes 1 hour prior to the end of the Show each day.*No refunds\n*Produced by Paragon Group \n
URL:http://inspiringtheact.org.au/event/jacksonville-international-auto-show/
LOCATION:The Prime F. Osborn III Convention Center\, 1000 Water Street\, Jacksonville\, FL\, 32204\, United States
ATTACH;FMTTYPE=image/jpeg:http://inspiringtheact.org.au/wp-content/uploads/2019/01/e2d37e0b8c259e2eaf3cea0ce0c5d843.jpg
END:VEVENT
END:VCALENDAR