BEGIN:VCALENDAR
VERSION:2.0
PRODID:-//Inspiring Australia - ECPv4.8.1//NONSGML v1.0//EN
CALSCALE:GREGORIAN
METHOD:PUBLISH
X-WR-CALNAME:Inspiring Australia
X-ORIGINAL-URL:http://inspiringtheact.org.au
X-WR-CALDESC:Events for Inspiring Australia
BEGIN:VEVENT
DTSTART;TZID=UTC+11:20151108T093000
DTEND;TZID=UTC+11:20201231T170000
DTSTAMP:20190226T223737
CREATED:20181225T164924Z
LAST-MODIFIED:20190127T191438Z
UID:3866-1446975000-1609434000@inspiringtheact.org.au
SUMMARY:Free Galleries Ticket
DESCRIPTION:Your FREE Galleries Ticket will allow you unlimited access on the day of your visit to all the displays open in our Permanent Galleries and the Wharf 7 Heritage Centre. You can also access our popular Cabinet of Curiosities  when programmed (suitable for all ages) and our Mini Mariners Play Space  – designed especially for children under age 5.\nTo access everything the mueum has to offer including special exhibitions and our fleet of vessels please purchase a Big Ticket.\nTicket is valid any day and for 12 months from date of purchase.  \n
URL:http://inspiringtheact.org.au/event/free-galleries-ticket/
LOCATION:Australian National Maritime Museum\, 2 Murray Street\, Sydney\, NSW\, 2000\, Australia
ATTACH;FMTTYPE=image/jpeg:http://inspiringtheact.org.au/wp-content/uploads/2018/12/65fa67924d000799aa4db78a1f67738c.jpg
END:VEVENT
BEGIN:VEVENT
DTSTART;TZID=UTC+11:20190206T090000
DTEND;TZID=UTC+11:20190206T173000
DTSTAMP:20190226T223737
CREATED:20181212T140853Z
LAST-MODIFIED:20181218T145056Z
UID:3757-1549443600-1549474200@inspiringtheact.org.au
SUMMARY:Blockchain Foundation
DESCRIPTION:Learn the theory and application of blockchain solutions in 1 day. Unlimited course re-takes for 12 months. \n
URL:http://inspiringtheact.org.au/event/blockchain-foundation-3/
LOCATION:Training Choice\, Level 4\, 54 Marcus Clarke Street\, Canberra\, ACT\, 2601\, Australia
ATTACH;FMTTYPE=image/jpeg:http://inspiringtheact.org.au/wp-content/uploads/2018/11/225ec54472b92d74d51fa279a2740655.jpg
END:VEVENT
BEGIN:VEVENT
DTSTART;TZID=UTC+11:20190206T101500
DTEND;TZID=UTC+11:20190206T110000
DTSTAMP:20190226T223737
CREATED:20181218T145054Z
LAST-MODIFIED:20181218T145054Z
UID:3842-1549448100-1549450800@inspiringtheact.org.au
SUMMARY:1-on-1 computer & technology 10:15am session (Adult 16+) (Civic Library)
DESCRIPTION:Suitable for adults. All programs are free.\nGet started with computers or mobile devices.  We can help you find solutions to simple technology problems.  We offer in person support and will help you find and use online resources so you can develop your digital skills. We can show you how to access the internet\, use your device and keep in touch with others online.  Do you want help setting up an email address? Want to learn what a URL is? These sessions are ideal for beginners.\nBOOKINGS OPEN TWO WEEKS BEFORE EACH SESSION. ONE 45 MINUTE SESSION PER PERSON.\nBookings are essential:\n\nPlease arrive 10 mins early to allow time to check in; this assists the program to run on schedule.\nPlaces are limited to ensure the best possible experience. If you can’t attend please let us know as soon as possible so we can offer your place to someone else.\n \n
URL:http://inspiringtheact.org.au/event/1-on-1-computer-technology-1015am-session-adult-16-civic-library-7/
LOCATION:Civic Library\, London Circuit\, Canberra\, ACT\, 2600\, Australia
GEO:-35.2811544;149.1310211
X-APPLE-STRUCTURED-LOCATION;VALUE=URI;X-ADDRESS=Civic Library London Circuit Canberra ACT 2600 Australia;X-APPLE-RADIUS=500;X-TITLE=London Circuit:geo:149.1310211,-35.2811544
ATTACH;FMTTYPE=image/jpeg:http://inspiringtheact.org.au/wp-content/uploads/2018/12/7b6de82ee6dc485468e6e870ab64e7a7.jpg
END:VEVENT
BEGIN:VEVENT
DTSTART;TZID=UTC+11:20190206T110000
DTEND;TZID=UTC+11:20190206T114500
DTSTAMP:20190226T223737
CREATED:20181218T145051Z
LAST-MODIFIED:20181218T145051Z
UID:3840-1549450800-1549453500@inspiringtheact.org.au
SUMMARY:1-on-1 computer & technology 11:00am session (Adult 16+) (Civic Library)
DESCRIPTION:Suitable for adults. All programs are free.\nGet started with computers or mobile devices.  We can help you find solutions to simple technology problems.  We offer in person support and will help you find and use online resources so you can develop your digital skills. We can show you how to access the internet\, use your device and keep in touch with others online.  Do you want help setting up an email address? Want to learn what a URL is? These sessions are ideal for beginners.\nBOOKINGS OPEN TWO WEEKS BEFORE EACH SESSION. ONE 45 MINUTE SESSION PER PERSON.\nBookings are essential:\n\nPlease arrive 10 mins early to allow time to check in; this assists the program to run on schedule.\nPlaces are limited to ensure the best possible experience. If you can’t attend please let us know as soon as possible so we can offer your place to someone else.\n \n
URL:http://inspiringtheact.org.au/event/1-on-1-computer-technology-1100am-session-adult-16-civic-library-110/
LOCATION:Civic Library\, London Circuit\, Canberra\, ACT\, 2600\, Australia
GEO:-35.2811544;149.1310211
X-APPLE-STRUCTURED-LOCATION;VALUE=URI;X-ADDRESS=Civic Library London Circuit Canberra ACT 2600 Australia;X-APPLE-RADIUS=500;X-TITLE=London Circuit:geo:149.1310211,-35.2811544
ATTACH;FMTTYPE=image/jpeg:http://inspiringtheact.org.au/wp-content/uploads/2018/12/187ec783bc9464866c1cb50ba1aad017.jpg
END:VEVENT
BEGIN:VEVENT
DTSTART;TZID=UTC+11:20190206T183000
DTEND;TZID=UTC+11:20190206T203000
DTSTAMP:20190226T223737
CREATED:20181209T131537Z
LAST-MODIFIED:20181218T145046Z
UID:3732-1549477800-1549485000@inspiringtheact.org.au
SUMMARY:Code Like a Girl: Unmanning Aviation (ACT)
DESCRIPTION:What the foxtrot?? There are even less women in aerospace than in tech?!!\nThat’s right. Only 16% of the aircraft\, spacecraft\, and manufacturing in aerospace is done by women. We thought breaking through the glass ceiling is hard – imagine breaking through the cloud ceiling!\nThis February\, Code Like a Girl is taking to the skies. We’ll be launching our 2019 events calendar with another of our favourite coding sisters: Mahla Kafami.\nMahla is a Design Engineer at JAR Aerospace. JAR specialise in the training\, design\, manufacturing and sustainment of high performance Unmanned Aerial Systems! JAR Aerospace has a clear mission – to ignite the Aerospace industry in Australia.\nJoin us for a one-on-one conversation with Mahla\, to explore her journey into tech and hear her experiences as a Design Engineer in the growing Australian Aerospace Industry.\nSchedule\n6:15pm: Doors open\, grab a drink and some nibbles6:30pm: Settle in to be welcomed by our host6:45pm: Hear from Mahla Kafami + time for some questions8:00pm: Networking time8:30pm: CLOSE – sorry ladies\, time to say your farewells!\n\n\n\nWe strive to make our events and workshops as accessible as possible to our audience and with the support of our generous sponsors and partners we are able to offer our events and workshops at a significantly-low fee. Code Like a Girl is supported by:\n\n\n\nDiversity & Inclusion\nWe welcome people across every gender\, race\, ethnicity\, country of origin\, sexual orientation\, visible and invisible ability. \nWe ensure that all our venues are wheelchair accessible\, and provide gluten free and vegetarian catering options.\nWe do our best to cater for all accessibility requirements – please let us know of any specific requirements you may have when you RSVP.\nFAQs \nAre there ID or minimum age requirements to enter the event?\nThe event is tailored to individuals 18+. Younger persons may attend if accompanied by an adult as alcohol is available.\nAre men allowed to attend?\nWhile the events are tailored towards women\, men and non-binary persons are welcome to attend Code Like a Girl events.\nHow can my organisation support Code Like a Girl’s work?\nIf you’re interested in supporting Code Like a Girl\, please reach out to us for opportunities at hello@codelikeagirl.com.au. \nWe’re always on the lookout for individuals or organisations who share our passion in improving diversity in tech. Download our sponsorship pack for more information.\n\n \n
URL:http://inspiringtheact.org.au/event/code-like-a-girl-unmanning-aviation-act/
LOCATION:The Australian National University\, Hanna Neumann Building\, Acton\, Canberra\, ACT\, 2601\, Australia
END:VEVENT
END:VCALENDAR